BEGIN:VCALENDAR
VERSION:2.0
PRODID:-//Tukios.com/
BEGIN:VEVENT
UID:61b6c3ae-0cc3-4412-8ac3-836ef7af9d68@www.chapman-black.com
DTSTAMP:20260422T002528Z
DTSTART:20260423T170000Z
DTEND:20260424T000000Z
SUMMARY:Public Viewing
DESCRIPTION:
URL:https://www.chapman-black.com/obituaries/joe-baker
LOCATION:Chapman-Black Funeral Home 108 West Delaware  Cleveland OK 74020
GEO:36.3086472;-96.4648942
END:VEVENT
END:VCALENDAR