BEGIN:VCALENDAR
VERSION:2.0
PRODID:-//Tukios.com/
BEGIN:VEVENT
UID:fbe03a37-5280-45bb-ba0e-c808f2f61471@www.chapman-black.com
DTSTAMP:20260422T001748Z
DTSTART:20260424T190000Z
DTEND:20260424T200000Z
SUMMARY:Funeral Service
DESCRIPTION:
URL:https://www.chapman-black.com/obituaries/joe-baker
LOCATION:First Baptist Church - Cleveland 201 Crest View Drive  Cleveland 
	OK 74020
GEO:36.3199111;-96.4679107
END:VEVENT
END:VCALENDAR