BEGIN:VCALENDAR
VERSION:2.0
PRODID:-//Tukios.com/
BEGIN:VEVENT
UID:a0e59ce0-3354-4004-9da3-24c79bc2c144@www.chapman-black.com
DTSTAMP:20260424T012526Z
DTSTART:20260428T190000Z
DTEND:20260428T200000Z
SUMMARY:Funeral Service
DESCRIPTION:
URL:https://www.chapman-black.com/obituaries/frank-pyles
LOCATION:Chapman-Black Funeral Home 108 West Delaware  Cleveland OK 74020
GEO:36.3086472;-96.4648942
END:VEVENT
END:VCALENDAR