BEGIN:VCALENDAR
VERSION:2.0
PRODID:-//Tukios.com/
BEGIN:VEVENT
UID:9aa560cc-25dc-49f6-9a03-af855e183bff@www.chapman-black.com
DTSTAMP:20260421T183327Z
DTSTART:20260423T223000Z
DTEND:20260424T003000Z
SUMMARY:Visitation
DESCRIPTION:
URL:https://www.chapman-black.com/obituaries/eddie-williamson
LOCATION:Ryan Mortuary 137 North 8th Street  Salina KS 67401
GEO:38.8418574;-97.6118322
END:VEVENT
END:VCALENDAR