BEGIN:VCALENDAR
VERSION:2.0
PRODID:-//Tukios.com/
BEGIN:VEVENT
UID:f0d06390-eb13-4b4f-ba2c-05865b0991e5@www.chapman-black.com
DTSTAMP:20260424T004636Z
DTSTART:20260428T160000Z
DTEND:20260428T170000Z
SUMMARY:Memorial Service
DESCRIPTION:
URL:https://www.chapman-black.com/obituaries/dewayne-ponder
LOCATION:Chapman-Black Funeral Home 108 West Delaware  Cleveland OK 74020
GEO:36.3086472;-96.4648942
END:VEVENT
END:VCALENDAR