BEGIN:VCALENDAR
VERSION:2.0
PRODID:-//Tukios.com/
BEGIN:VEVENT
UID:a345784f-0c5d-4cfe-a115-a6c578a0b94a@www.chapman-black.com
DTSTAMP:20260424T004308Z
DTSTART:20260430T160000Z
DTEND:20260430T163000Z
SUMMARY:Graveside Service
DESCRIPTION:
URL:https://www.chapman-black.com/obituaries/dewayne-ponder
LOCATION:Fort Gibson National Cemetery 1423 Cemetery Road  Fort Gibson OK 
	74434
GEO:35.8038251;-95.2286251
END:VEVENT
END:VCALENDAR